View In:
ArcGIS JavaScript
ArcGIS Online Map Viewer
ArcGIS Earth
ArcMap
View Footprint In:
ArcGIS Online Map Viewer
Service Description: fkb_gg_dtm_33Utm
Name: fkb_gg_dtm_33Utm
Description:
Single Fused Map Cache: true
Tile Info:
- Height: 256
- Width: 256
- DPI: 96
-
Levels of Detail: 18
- Format: LERC
- Compression Quality: 0.0
- LERC Error: 0.05
- Origin: X: -2500000.0
Y: 9045984.0
- Spatial Reference: 25833
(25833)
Storage Info:
- Storage Format: esriMapCacheStorageModeCompactV2
- Packet Size: 128
Extent:
XMin: -37508.623385090264
YMin: 6731524.79301979
XMax: -37277.623385090264
YMax: 6731868.79301979
Spatial Reference: 25833
(25833)
Initial Extent:
XMin: -37508.623385090264
YMin: 6731524.79301979
XMax: -37277.623385090264
YMax: 6731868.79301979
Spatial Reference: 25833
(25833)
Full Extent:
XMin: -37508.623385090264
YMin: 6731524.79301979
XMax: -37277.623385090264
YMax: 6731868.79301979
Spatial Reference: 25833
(25833)
Pixel Size X: 1.0
Pixel Size Y: 1.0
Band Count: 1
Pixel Type: U4
RasterFunction Infos: {"rasterFunctionInfos": [{
"name": "None",
"description": "",
"help": ""
}]}
Mensuration Capabilities: Basic
Has Histograms: false
Has Colormap: false
Has Multi Dimensions : false
Rendering Rule:
Min Scale: 81920000
Max Scale: 625
Min LOD: 0
Max LOD: 17
Copyright Text:
Service Data Type: esriImageServiceDataTypeThematic
Min Values: 4
Max Values: 4
Mean Values: 4
Standard Deviation Values: 0
Object ID Field:
Fields:
None
Default Mosaic Method: Center
Allowed Mosaic Methods:
SortField:
SortValue: null
Mosaic Operator: First
Default Compression Quality: 75
Default Resampling Method: Bilinear
Max Record Count: null
Max Image Height: 4100
Max Image Width: 15000
Max Download Image Count: null
Max Mosaic Image Count: null
Allow Raster Function: true
Allow Copy: true
Allow Analysis: true
Allow Compute TiePoints: false
Supports Statistics: false
Supports Advanced Queries: false
Use StandardizedQueries: true
Raster Type Infos:
Name: Raster Dataset
Description: Supports all ArcGIS Raster Datasets
Help:
Has Raster Attribute Table: true
Edit Fields Info: null
Ownership Based AccessControl For Rasters: null
Child Resources:
Info
Raster Attribute Table
Statistics
Key Properties
Legend
Raster Function Infos
Supported Operations:
Export Image
Identify
Measure
Compute Histograms
Compute Statistics Histograms
Get Samples
Compute Class Statistics
Query Boundary
Compute Pixel Location
Compute Angles
Validate
Project