{
 "currentVersion": 10.91,
 "serviceDescription": "fkb_gg_dtm_33Utm",
 "name": "fkb_gg_dtm_33Utm",
 "description": "",
 "extent": {
  "xmin": -37508.623385090264,
  "ymin": 6731524.79301979,
  "xmax": -37277.623385090264,
  "ymax": 6731868.79301979,
  "spatialReference": {
   "wkid": 25833,
   "latestWkid": 25833
  }
 },
 "initialExtent": {
  "xmin": -37508.623385090264,
  "ymin": 6731524.79301979,
  "xmax": -37277.623385090264,
  "ymax": 6731868.79301979,
  "spatialReference": {
   "wkid": 25833,
   "latestWkid": 25833
  }
 },
 "fullExtent": {
  "xmin": -37508.623385090264,
  "ymin": 6731524.79301979,
  "xmax": -37277.623385090264,
  "ymax": 6731868.79301979,
  "spatialReference": {
   "wkid": 25833,
   "latestWkid": 25833
  }
 },
 "hasMultidimensions": false,
 "pixelSizeX": 1,
 "pixelSizeY": 1,
 "datasetFormat": "GRID",
 "uncompressedSize": 39732,
 "blockWidth": 256,
 "blockHeight": 16,
 "compressionType": "RLE",
 "bandNames": [
  "fkb_gg_dtm_32"
 ],
 "allowCopy": true,
 "allowAnalysis": true,
 "bandCount": 1,
 "noDataValue": 0,
 "noDataValues": [
  0
 ],
 "pixelType": "U4",
 "minPixelSize": 0.16536491406316148,
 "maxPixelSize": 21674.7100160867,
 "copyrightText": "",
 "serviceDataType": "esriImageServiceDataTypeThematic",
 "serviceSourceType": "esriImageServiceSourceTypeDataset",
 "minValues": [
  4
 ],
 "maxValues": [
  4
 ],
 "meanValues": [
  4
 ],
 "stdvValues": [
  0
 ],
 "objectIdField": "",
 "fields": [],
 "capabilities": "Image,Metadata,Mensuration",
 "defaultMosaicMethod": "Center",
 "allowedMosaicMethods": "",
 "sortField": "",
 "sortValue": null,
 "sortAscending": true,
 "mosaicOperator": "First",
 "defaultCompressionQuality": 75,
 "defaultResamplingMethod": "Bilinear",
 "maxImageHeight": 4100,
 "maxImageWidth": 15000,
 "singleFusedMapCache": true,
 "tileInfo": {
  "rows": 256,
  "cols": 256,
  "dpi": 96,
  "format": "LERC",
  "compressionQuality": 0,
  "lercError": 0.05,
  "origin": {
   "x": -2500000,
   "y": 9045984
  },
  "spatialReference": {
   "wkid": 25833,
   "latestWkid": 25833
  },
  "lods": [
   {
    "level": 0,
    "resolution": 21674.7100160867,
    "scale": 81920000
   },
   {
    "level": 1,
    "resolution": 10837.35500804335,
    "scale": 40960000
   },
   {
    "level": 2,
    "resolution": 5418.677504021675,
    "scale": 20480000
   },
   {
    "level": 3,
    "resolution": 2709.3387520108377,
    "scale": 10240000
   },
   {
    "level": 4,
    "resolution": 1354.6693760054188,
    "scale": 5120000
   },
   {
    "level": 5,
    "resolution": 677.3346880027094,
    "scale": 2560000
   },
   {
    "level": 6,
    "resolution": 338.6673440013547,
    "scale": 1280000
   },
   {
    "level": 7,
    "resolution": 169.33367200067735,
    "scale": 640000
   },
   {
    "level": 8,
    "resolution": 84.66683600033868,
    "scale": 320000
   },
   {
    "level": 9,
    "resolution": 42.33341800016934,
    "scale": 160000
   },
   {
    "level": 10,
    "resolution": 21.16670900008467,
    "scale": 80000
   },
   {
    "level": 11,
    "resolution": 10.583354500042335,
    "scale": 40000
   },
   {
    "level": 12,
    "resolution": 5.291677250021167,
    "scale": 20000
   },
   {
    "level": 13,
    "resolution": 2.6458386250105836,
    "scale": 10000
   },
   {
    "level": 14,
    "resolution": 1.3229193125052918,
    "scale": 5000
   },
   {
    "level": 15,
    "resolution": 0.6614596562526459,
    "scale": 2500
   },
   {
    "level": 16,
    "resolution": 0.33072982812632296,
    "scale": 1250
   },
   {
    "level": 17,
    "resolution": 0.16536491406316148,
    "scale": 625
   }
  ]
 },
 "storageInfo": {
  "storageFormat": "esriMapCacheStorageModeCompactV2",
  "packetSize": 128
 },
 "cacheType": "Elevation",
 "allowRasterFunction": true,
 "rasterFunctionInfos": [
  {
   "name": "None",
   "description": "",
   "help": ""
  }
 ],
 "rasterTypeInfos": [
  {
   "name": "Raster Dataset",
   "description": "Supports all ArcGIS Raster Datasets",
   "help": ""
  }
 ],
 "mensurationCapabilities": "Basic",
 "hasHistograms": false,
 "hasColormap": false,
 "hasRasterAttributeTable": true,
 "minScale": 81920000,
 "maxScale": 625,
 "minLOD": 0,
 "maxLOD": 17,
 "exportTilesAllowed": false,
 "supportsStatistics": false,
 "supportsAdvancedQueries": false,
 "editFieldsInfo": null,
 "ownershipBasedAccessControlForRasters": null,
 "allowComputeTiePoints": false,
 "useStandardizedQueries": true,
 "advancedQueryCapabilities": {
  "useStandardizedQueries": true,
  "supportsStatistics": false,
  "supportsOrderBy": false,
  "supportsDistinct": false,
  "supportsPagination": false
 },
 "spatialReference": {
  "wkid": 25833,
  "latestWkid": 25833
 }
}
