View In:
ArcGIS JavaScript
ArcGIS Online Map Viewer
ArcGIS Earth
ArcMap
View Footprint In:
ArcGIS Online Map Viewer
Service Description: oppdrag/D73_018_gm_Gema_Terrengoverflate_mollendal_00001_33n
Name: oppdrag/D73_018_gm_Gema_Terrengoverflate_mollendal_00001_33n
Description:
Single Fused Map Cache: true
Tile Info:
- Height: 256
- Width: 256
- DPI: 96
-
Levels of Detail: 18
- Format: LERC
- Compression Quality: 0.0
- LERC Error: 0.01
- Origin: X: -2500000.0
Y: 9045984.0
- Spatial Reference: 25833
(25833)
Storage Info:
- Storage Format: esriMapCacheStorageModeCompactV2
- Packet Size: 128
Extent:
XMin: -31194.105084505514
YMin: 6731603.874555418
XMax: -30115.105084505514
YMax: 6733181.074555418
Spatial Reference: 25833
(25833)
Initial Extent:
XMin: -31194.105084505514
YMin: 6731603.874555418
XMax: -30115.105084505514
YMax: 6733181.074555418
Spatial Reference: 25833
(25833)
Full Extent:
XMin: -31194.105084505514
YMin: 6731603.874555418
XMax: -30115.105084505514
YMax: 6733181.074555418
Spatial Reference: 25833
(25833)
Pixel Size X: 0.2
Pixel Size Y: 0.20000000000002363
Band Count: 1
Pixel Type: F32
RasterFunction Infos: {"rasterFunctionInfos": [{
"name": "None",
"description": "",
"help": ""
}]}
Mensuration Capabilities: Basic
Has Histograms: true
Has Colormap: false
Has Multi Dimensions : false
Rendering Rule:
Min Scale: 81920000
Max Scale: 625
Min LOD: 0
Max LOD: 17
Copyright Text:
Service Data Type: esriImageServiceDataTypeGeneric
Min Values: -19.96255874633789
Max Values: 58.644256591796875
Mean Values: 25.132364032090134
Standard Deviation Values: 19.945859330841667
Object ID Field:
Fields:
None
Default Mosaic Method: Center
Allowed Mosaic Methods:
SortField:
SortValue: null
Mosaic Operator: First
Default Compression Quality: 75
Default Resampling Method: Bilinear
Max Record Count: null
Max Image Height: 4100
Max Image Width: 15000
Max Download Image Count: null
Max Mosaic Image Count: null
Allow Raster Function: true
Allow Copy: true
Allow Analysis: true
Allow Compute TiePoints: false
Supports Statistics: false
Supports Advanced Queries: false
Use StandardizedQueries: true
Raster Type Infos:
Name: Raster Dataset
Description: Supports all ArcGIS Raster Datasets
Help:
Has Raster Attribute Table: false
Edit Fields Info: null
Ownership Based AccessControl For Rasters: null
Child Resources:
Info
Histograms
Statistics
Key Properties
Legend
Raster Function Infos
Supported Operations:
Export Image
Identify
Measure
Compute Histograms
Compute Statistics Histograms
Get Samples
Compute Class Statistics
Query Boundary
Compute Pixel Location
Compute Angles
Validate
Project