View In:
ArcGIS JavaScript
ArcGIS Online Map Viewer
ArcGIS Earth
ArcMap
View Footprint In:
ArcGIS Online Map Viewer
Service Description: E12_G_Terreng_LAS
Name: E12_G_Terreng_LAS
Description:
Single Fused Map Cache: true
Tile Info:
- Height: 256
- Width: 256
- DPI: 96
-
Levels of Detail: 18
- Format: LERC
- Compression Quality: 0.0
- LERC Error: 0.05
- Origin: X: -2500000.0
Y: 9045984.0
- Spatial Reference: 25833
(25833)
Storage Info:
- Storage Format: esriMapCacheStorageModeCompactV2
- Packet Size: 128
Extent:
XMin: 134202.0484000016
YMin: 6493953.469200006
XMax: 135002.04840000195
YMax: 6494753.469200006
Spatial Reference: 25833
(25833)
Initial Extent:
XMin: 134202.0484000016
YMin: 6493953.469200006
XMax: 135002.04840000195
YMax: 6494753.469200006
Spatial Reference: 25833
(25833)
Full Extent:
XMin: 134202.0484000016
YMin: 6493953.469200006
XMax: 135002.04840000195
YMax: 6494753.469200006
Spatial Reference: 25833
(25833)
Pixel Size X: 0.25000000000010913
Pixel Size Y: 0.25
Band Count: 1
Pixel Type: F32
RasterFunction Infos: {"rasterFunctionInfos": [
{
"name": "None",
"description": "Make a Raster or Raster Dataset into a Function Raster Dataset.",
"help": ""
},
{
"name": "multiskyggerelieff",
"description": "A raster function template.",
"help": ""
},
{
"name": "Aspect",
"description": "This server-side function will apply an on-the-fly process to the input elevation data to generate an aspect layer.",
"help": "Raster Function Templates may be activated in ArcMap by loading the service into the map, right clicking on the service in the Table of Contents to select Properties, and selecting the desired function from the Server Functions tab. This can also be done in ArcGIS Online. For further help: https://doc.arcgis.com/en/arcgis-online/create-maps/display-imagery.htm"
},
{
"name": "Aspect_Map",
"description": "This server-side function will apply an on-the-fly process to the input elevation data to generate a color visualization of aspect.",
"help": "Raster Function Templates may be activated in ArcMap by loading the service into the map, right clicking on the service in the Table of Contents to select Properties, and selecting the desired function from the Server Functions tab. This can also be done in ArcGIS Online. For further help: https://doc.arcgis.com/en/arcgis-online/create-maps/display-imagery.htm"
},
{
"name": "Dynamic_Height",
"description": "This server-side function will apply an on-the-fly process to the input elevation data to generate a dynamic color visualization of the height range within the extent.",
"help": "Raster Function Templates may be activated in ArcMap by loading the service into the map, right clicking on the service in the Table of Contents to select Properties, and selecting the desired function from the Server Functions tab. This can also be done in ArcGIS Online. For further help: https://doc.arcgis.com/en/arcgis-online/create-maps/display-imagery.htm"
},
{
"name": "ElevationInFeet",
"description": "A raster function template.",
"help": ""
},
{
"name": "Grayscale_Hillshade",
"description": "This server-side function will apply an on-the-fly process to the input elevation values to generate a single band grayscale hillshade.",
"help": "Raster Function Templates may be activated in ArcMap by loading the service into the map, right clicking on the service in the Table of Contents to select Properties, and selecting the desired function from the Server Functions tab. This can also be done in ArcGIS Online. For further help: https://doc.arcgis.com/en/arcgis-online/create-maps/display-imagery.htm"
},
{
"name": "LysMultihillshade",
"description": "LysMultihillshade",
"help": ""
},
{
"name": "LysMultihillshade_v050",
"description": "LysMultihillshade",
"help": ""
},
{
"name": "LysMultihillshade_v075",
"description": "LysMultihillshade",
"help": ""
},
{
"name": "LysMultihillshade_v200",
"description": "LysMultihillshade",
"help": ""
},
{
"name": "Max_15pix",
"description": "A raster function template.",
"help": ""
},
{
"name": "Max_30pix",
"description": "A raster function template.",
"help": ""
},
{
"name": "Min_15pix",
"description": "A raster function template.",
"help": ""
},
{
"name": "Slope_Degrees",
"description": "This server-side function will apply an on-the-fly process to the input elevation data to generate a service returning slope (in degrees, from 0 to 90).",
"help": "Raster Function Templates may be activated in ArcMap by loading the service into the map, right clicking on the service in the Table of Contents to select Properties, and selecting the desired function from the Server Functions tab. This can also be done in ArcGIS Online. For further help: https://doc.arcgis.com/en/arcgis-online/create-maps/display-imagery.htm "
},
{
"name": "Slope_Degrees_Map",
"description": "A raster function template.",
"help": ""
},
{
"name": "Slope_Percent",
"description": "This server-side function will apply an on-the-fly process to the input elevation data to generate a service returning slope, measured in percent rise (0 to 1,000 percent).",
"help": "Raster Function Templates may be activated in ArcMap by loading the service into the map, right clicking on the service in the Table of Contents to select Properties, and selecting the desired function from the Server Functions tab. This can also be done in ArcGIS Online. For further help: https://doc.arcgis.com/en/arcgis-online/create-maps/display-imagery.htm"
}
]}
Mensuration Capabilities: Basic
Has Histograms: true
Has Colormap: false
Has Multi Dimensions : false
Rendering Rule:
Min Scale: 81920000
Max Scale: 625
Min LOD: 0
Max LOD: 17
Copyright Text:
Service Data Type: esriImageServiceDataTypeElevation
Min Values: 0.077167518436909
Max Values: 48.624835968018
Mean Values: 5.5477090335285
Standard Deviation Values: 8.358805963155
Object ID Field:
Fields:
None
Default Mosaic Method: Center
Allowed Mosaic Methods:
SortField:
SortValue: null
Mosaic Operator: First
Default Compression Quality: 75
Default Resampling Method: Bilinear
Max Record Count: null
Max Image Height: 4100
Max Image Width: 15000
Max Download Image Count: null
Max Mosaic Image Count: null
Allow Raster Function: true
Allow Copy: true
Allow Analysis: true
Allow Compute TiePoints: false
Supports Statistics: false
Supports Advanced Queries: false
Use StandardizedQueries: true
Raster Type Infos:
Name: Raster Dataset
Description: Supports all ArcGIS Raster Datasets
Help:
Has Raster Attribute Table: false
Edit Fields Info: null
Ownership Based AccessControl For Rasters: null
Child Resources:
Info
Histograms
Statistics
Key Properties
Legend
Raster Function Infos
Supported Operations:
Export Image
Identify
Measure
Compute Histograms
Compute Statistics Histograms
Get Samples
Compute Class Statistics
Query Boundary
Compute Pixel Location
Compute Angles
Validate
Project
Calculate Volume