<?xml version="1.0" encoding="UTF-8" standalone="no"?>
<metadata xml:lang="en">
<Esri>
<CreaDate>20240704</CreaDate>
<CreaTime>11162000</CreaTime>
<ArcGISFormat>1.0</ArcGISFormat>
<SyncOnce>FALSE</SyncOnce>
<DataProperties>
<itemProps>
<itemName Sync="TRUE">terrain.tif</itemName>
<itemLocation>
<linkage Sync="TRUE">file://\\OSL-5CG3285F4W\D$\Ekstern_disk_privat\Engeneveien_12_JonPeder\Input\Engeneveien_12_3D_ClipnShi\laser\terrengmodell\terrain_1.tif</linkage>
<protocol Sync="TRUE">Local Area Network</protocol>
</itemLocation>
<imsContentType Sync="TRUE">002</imsContentType>
<nativeExtBox>
<westBL Sync="TRUE">134202.048400</westBL>
<eastBL Sync="TRUE">135002.048400</eastBL>
<southBL Sync="TRUE">6493953.469200</southBL>
<northBL Sync="TRUE">6494753.469200</northBL>
<exTypeCode Sync="TRUE">1</exTypeCode>
</nativeExtBox>
</itemProps>
<coordRef>
<type Sync="TRUE">Projected</type>
<geogcsn Sync="TRUE">GCS_ETRS_1989</geogcsn>
<csUnits Sync="TRUE">Linear Unit: Meter (1.000000)</csUnits>
<projcsn Sync="TRUE">ETRS_1989_UTM_Zone_33N</projcsn>
<peXml Sync="TRUE">&lt;ProjectedCoordinateSystem xsi:type='typens:ProjectedCoordinateSystem' xmlns:xsi='http://www.w3.org/2001/XMLSchema-instance' xmlns:xs='http://www.w3.org/2001/XMLSchema' xmlns:typens='http://www.esri.com/schemas/ArcGIS/3.1.0'&gt;&lt;WKT&gt;PROJCS[&amp;quot;ETRS_1989_UTM_Zone_33N&amp;quot;,GEOGCS[&amp;quot;GCS_ETRS_1989&amp;quot;,DATUM[&amp;quot;D_ETRS_1989&amp;quot;,SPHEROID[&amp;quot;GRS_1980&amp;quot;,6378137.0,298.257222101]],PRIMEM[&amp;quot;Greenwich&amp;quot;,0.0],UNIT[&amp;quot;Degree&amp;quot;,0.0174532925199433]],PROJECTION[&amp;quot;Transverse_Mercator&amp;quot;],PARAMETER[&amp;quot;False_Easting&amp;quot;,500000.0],PARAMETER[&amp;quot;False_Northing&amp;quot;,0.0],PARAMETER[&amp;quot;Central_Meridian&amp;quot;,15.0],PARAMETER[&amp;quot;Scale_Factor&amp;quot;,0.9996],PARAMETER[&amp;quot;Latitude_Of_Origin&amp;quot;,0.0],UNIT[&amp;quot;Meter&amp;quot;,1.0],AUTHORITY[&amp;quot;EPSG&amp;quot;,25833]]&lt;/WKT&gt;&lt;XOrigin&gt;-5120900&lt;/XOrigin&gt;&lt;YOrigin&gt;-9998100&lt;/YOrigin&gt;&lt;XYScale&gt;450445547.3910538&lt;/XYScale&gt;&lt;ZOrigin&gt;-100000&lt;/ZOrigin&gt;&lt;ZScale&gt;10000&lt;/ZScale&gt;&lt;MOrigin&gt;-100000&lt;/MOrigin&gt;&lt;MScale&gt;10000&lt;/MScale&gt;&lt;XYTolerance&gt;0.001&lt;/XYTolerance&gt;&lt;ZTolerance&gt;0.001&lt;/ZTolerance&gt;&lt;MTolerance&gt;0.001&lt;/MTolerance&gt;&lt;HighPrecision&gt;true&lt;/HighPrecision&gt;&lt;WKID&gt;25833&lt;/WKID&gt;&lt;LatestWKID&gt;25833&lt;/LatestWKID&gt;&lt;/ProjectedCoordinateSystem&gt;</peXml>
</coordRef>
<RasterProperties>
<General>
<PixelDepth Sync="TRUE">32</PixelDepth>
<HasColormap Sync="TRUE">FALSE</HasColormap>
<CompressionType Sync="TRUE">None</CompressionType>
<NumBands Sync="TRUE">1</NumBands>
<Format Sync="TRUE">TIFF</Format>
<HasPyramids Sync="TRUE">TRUE</HasPyramids>
<SourceType Sync="TRUE">continuous</SourceType>
<PixelType Sync="TRUE">floating point</PixelType>
<NoDataValue Sync="TRUE">-32767</NoDataValue>
</General>
</RasterProperties>
<lineage>
<Process Date="20240703" Time="171337" ToolSource="c:\program files\arcgis\pro\Resources\ArcToolbox\toolboxes\Data Management Tools.tbx\Clip">Clip A:\GAMP_workspace_0c989fd80788673b5\RUN56853162_workspace\f7e94a3e7f0b46e4bc8323ab777b2afc\HoydedataEp_0_25000.gdb\HoydedataDTM "134202.048 6493953.469 135002.048 6494753.469" A:\GAMP_workspace_0c989fd80788673b5\RUN56853162_workspace\data\uttrekk\laser\terrengmodell\terrain.tif A:\GAMP_workspace_0c989fd80788673b5\RUN56853162_workspace\data\clip.gdb\clippolygon -32767 ClippingGeometry NO_MAINTAIN_EXTENT</Process>
<Process Date="20240704" Time="111621" ToolSource="c:\program files\arcgis\pro\Resources\ArcToolbox\toolboxes\Data Management Tools.tbx\Copy">Copy D:\Ekstern_disk_privat\Engeneveien_12_JonPeder\Input\Engeneveien_12_3D_ClipnShi\laser\terrengmodell\terrain.tif D:\Ekstern_disk_privat\Engeneveien_12_JonPeder\Input\Engeneveien_12_3D_ClipnShi\laser\terrengmodell\terrain_1.tif "Raster Dataset" #</Process>
<Process Date="20240704" Time="111642" ToolSource="c:\program files\arcgis\pro\Resources\ArcToolbox\toolboxes\Data Management Tools.tbx\Rename">Rename D:\Ekstern_disk_privat\Engeneveien_12_JonPeder\Input\Engeneveien_12_3D_ClipnShi\laser\terrengmodell\terrain_1.tif D:\Ekstern_disk_privat\Engeneveien_12_JonPeder\Input\Engeneveien_12_3D_ClipnShi\laser\terrengmodell\E12_G_Terreng_LAS.tif RasterDataset</Process>
</lineage>
<copyHistory>
<copy date="20240704" dest="\\OSL-5CG3285F4W\D$\Ekstern_disk_privat\Engeneveien_12_JonPeder\Input\Engeneveien_12_3D_ClipnShi\laser\terrengmodell\terrain_1.tif" source="D:\Ekstern_disk_privat\Engeneveien_12_JonPeder\Input\Engeneveien_12_3D_ClipnShi\laser\terrengmodell\terrain.tif" time="11162000"/>
</copyHistory>
</DataProperties>
<SyncDate>20240703</SyncDate>
<SyncTime>17133600</SyncTime>
<ModDate>20240703</ModDate>
<ModTime>17133600</ModTime>
</Esri>
<dataIdInfo>
<envirDesc Sync="TRUE">Microsoft Windows Server 2016 Technical Preview Version 10.0 (Build 17763) ; Esri ArcGIS 13.1.3.41833</envirDesc>
<dataLang>
<languageCode Sync="TRUE" value="eng"/>
<countryCode Sync="TRUE" value="GBR"/>
</dataLang>
<idCitation>
<resTitle Sync="TRUE">E12_G_Terreng_LAS</resTitle>
<presForm>
<PresFormCd Sync="TRUE" value="005"/>
</presForm>
</idCitation>
<spatRpType>
<SpatRepTypCd Sync="TRUE" value="002"/>
</spatRpType>
<dataExt>
<geoEle>
<GeoBndBox esriExtentType="search">
<exTypeCode Sync="TRUE">1</exTypeCode>
<westBL Sync="TRUE">8.728819</westBL>
<eastBL Sync="TRUE">8.743712</eastBL>
<northBL Sync="TRUE">58.440406</northBL>
<southBL Sync="TRUE">58.432595</southBL>
</GeoBndBox>
</geoEle>
</dataExt>
<idAbs/>
<searchKeys>
<keyword>E12</keyword>
</searchKeys>
<idPurp>E12_G_Terreng_LAS</idPurp>
<idCredit/>
<resConst>
<Consts>
<useLimit/>
</Consts>
</resConst>
</dataIdInfo>
<mdLang>
<languageCode Sync="TRUE" value="eng"/>
<countryCode Sync="TRUE" value="GBR"/>
</mdLang>
<mdChar>
<CharSetCd Sync="TRUE" value="004"/>
</mdChar>
<distInfo>
<distFormat>
<formatName Sync="TRUE">Raster Dataset</formatName>
</distFormat>
</distInfo>
<mdHrLv>
<ScopeCd Sync="TRUE" value="005"/>
</mdHrLv>
<mdHrLvName Sync="TRUE">dataset</mdHrLvName>
<refSysInfo>
<RefSystem>
<refSysID>
<identCode Sync="TRUE" code="25833"/>
<idCodeSpace Sync="TRUE">EPSG</idCodeSpace>
<idVersion Sync="TRUE">4.3(4.0.0)</idVersion>
</refSysID>
</RefSystem>
</refSysInfo>
<spatRepInfo>
<Georect>
<cellGeo>
<CellGeoCd Sync="TRUE" value="002"/>
</cellGeo>
<numDims Sync="TRUE">2</numDims>
<tranParaAv Sync="TRUE">1</tranParaAv>
<chkPtAv Sync="TRUE">0</chkPtAv>
<cornerPts>
<pos Sync="TRUE">134202.048400 6493953.469200</pos>
</cornerPts>
<cornerPts>
<pos Sync="TRUE">134202.048400 6494753.469200</pos>
</cornerPts>
<cornerPts>
<pos Sync="TRUE">135002.048400 6494753.469200</pos>
</cornerPts>
<cornerPts>
<pos Sync="TRUE">135002.048400 6493953.469200</pos>
</cornerPts>
<centerPt>
<pos Sync="TRUE">134602.048400 6494353.469200</pos>
</centerPt>
<axisDimension type="002">
<dimSize Sync="TRUE">3200</dimSize>
<dimResol>
<value Sync="TRUE" uom="m">0.250000</value>
</dimResol>
</axisDimension>
<axisDimension type="001">
<dimSize Sync="TRUE">3200</dimSize>
<dimResol>
<value Sync="TRUE" uom="m">0.250000</value>
</dimResol>
</axisDimension>
<ptInPixel>
<PixOrientCd Sync="TRUE" value="001"/>
</ptInPixel>
</Georect>
</spatRepInfo>
<contInfo>
<ImgDesc>
<contentTyp>
<ContentTypCd Sync="TRUE" value="001"/>
</contentTyp>
<covDim>
<Band>
<dimDescrp Sync="TRUE">Band_1</dimDescrp>
<maxVal Sync="TRUE">48.624836</maxVal>
<minVal Sync="TRUE">0.077168</minVal>
<bitsPerVal Sync="TRUE">32</bitsPerVal>
<valUnit>
<UOM type="length"/>
</valUnit>
</Band>
</covDim>
</ImgDesc>
</contInfo>
<mdDateSt Sync="TRUE">20240703</mdDateSt>
</metadata>
